BEGIN:VCALENDAR
VERSION:2.0
PRODID:-//Florales trifft Kunst//Website//DE
CALSCALE:GREGORIAN
METHOD:PUBLISH
BEGIN:VEVENT
UID:collage-frottage@www.floralesmeetsart.de
DTSTAMP:20260422T172311Z
DTSTART:20260627T123000Z
DTEND:20260627T150000Z
SUMMARY:Workshop: Collage & Frottage
DESCRIPTION:Zwei Techniken\, die sich gegenseitig verstärken: gefundene Papiere\, selbst erstellte Strukturen\, bewusste Schichten. Daraus entstehen Arbeiten mit Tiefe.\\n\\nAlle Infos: https://www.floralesmeetsart.de/workshops/collage-frottage/
LOCATION:WERK[39]\, Luisenstraße 39\, 63263 Neu-Isenburg
URL:https://www.floralesmeetsart.de/workshops/collage-frottage/
STATUS:CONFIRMED
BEGIN:VALARM
TRIGGER:-P1D
ACTION:DISPLAY
DESCRIPTION:Workshop morgen: Workshop: Collage & Frottage
END:VALARM
END:VEVENT
END:VCALENDAR
