BEGIN:VCALENDAR
VERSION:2.0
PRODID:-//Florales trifft Kunst//Website//DE
CALSCALE:GREGORIAN
METHOD:PUBLISH
BEGIN:VEVENT
UID:cyanotypie-experiment@www.floralesmeetsart.de
DTSTAMP:20260422T171502Z
DTSTART:20260628T080000Z
DTEND:20260628T103000Z
SUMMARY:Workshop: Cyanotypie Experimental
DESCRIPTION:Für alle\, die Cyanotypie schon kennen und die Grenzen ausloten wollen: Doppelbelichtung\, Teilentwicklung\, Kombinationen mit anderen Techniken. Offen für Zufall.\\n\\nAlle Infos: https://www.floralesmeetsart.de/workshops/cyanotypie-experiment/
LOCATION:WERK[39]\, Luisenstraße 39\, 63263 Neu-Isenburg
URL:https://www.floralesmeetsart.de/workshops/cyanotypie-experiment/
STATUS:CONFIRMED
BEGIN:VALARM
TRIGGER:-P1D
ACTION:DISPLAY
DESCRIPTION:Workshop morgen: Workshop: Cyanotypie Experimental
END:VALARM
END:VEVENT
END:VCALENDAR
