BEGIN:VCALENDAR
VERSION:2.0
PRODID:-//Florales trifft Kunst//Website//DE
CALSCALE:GREGORIAN
METHOD:PUBLISH
BEGIN:VEVENT
UID:cyanotypie-farbe@www.floralesmeetsart.de
DTSTAMP:20260422T155618Z
DTSTART:20260614T080000Z
DTEND:20260614T103000Z
SUMMARY:Workshop: Cyanotypie Workshop
DESCRIPTION:Der klassische Blaudruck aus dem 19. Jahrhundert\, kombiniert mit zeitgenössischen Farbimpulsen. Sonnenlicht\, Pflanzen\, Papier – und ein tiefes\, lebendiges Blau.\\n\\nAlle Infos: https://www.floralesmeetsart.de/workshops/cyanotypie-farbe/
LOCATION:WERK[39]\, Luisenstraße 39\, 63263 Neu-Isenburg
URL:https://www.floralesmeetsart.de/workshops/cyanotypie-farbe/
STATUS:CONFIRMED
BEGIN:VALARM
TRIGGER:-P1D
ACTION:DISPLAY
DESCRIPTION:Workshop morgen: Workshop: Cyanotypie Workshop
END:VALARM
END:VEVENT
END:VCALENDAR
