BEGIN:VCALENDAR
VERSION:2.0
PRODID:-//Florales trifft Kunst//Website//DE
CALSCALE:GREGORIAN
METHOD:PUBLISH
BEGIN:VEVENT
UID:frottage-komposition@www.floralesmeetsart.de
DTSTAMP:20260422T155321Z
DTSTART:20260613T080000Z
DTEND:20260613T103000Z
SUMMARY:Workshop: Frottage Workshop
DESCRIPTION:Frottage – die Kunst\, Strukturen aus der Welt ins Bild zu holen. Kombiniert mit Farbflächen und bewusster Komposition entsteht daraus etwas ganz Eigenes.\\n\\nAlle Infos: https://www.floralesmeetsart.de/workshops/frottage-komposition/
LOCATION:WERK[39]\, Luisenstraße 39\, 63263 Neu-Isenburg
URL:https://www.floralesmeetsart.de/workshops/frottage-komposition/
STATUS:CONFIRMED
BEGIN:VALARM
TRIGGER:-P1D
ACTION:DISPLAY
DESCRIPTION:Workshop morgen: Workshop: Frottage Workshop
END:VALARM
END:VEVENT
END:VCALENDAR
