BEGIN:VCALENDAR
VERSION:2.0
PRODID:-//Florales trifft Kunst//Website//DE
CALSCALE:GREGORIAN
METHOD:PUBLISH
BEGIN:VEVENT
UID:gelli-plate-basiskurs@www.floralesmeetsart.de
DTSTAMP:20260422T155913Z
DTSTART:20260531T080000Z
DTEND:20260531T103000Z
SUMMARY:Workshop: Gelli Plate Basiskurs
DESCRIPTION:Ein entspannter Einstieg in die monotypische Drucktechnik. Die Grundlagen von Farbaufbau\, Werkzeugwahl und Komposition – und am Ende eine Mappe voller eigener Drucke.\\n\\nAlle Infos: https://www.floralesmeetsart.de/workshops/gelli-plate-basiskurs/
LOCATION:WERK[39]\, Luisenstraße 39\, 63263 Neu-Isenburg
URL:https://www.floralesmeetsart.de/workshops/gelli-plate-basiskurs/
STATUS:CONFIRMED
BEGIN:VALARM
TRIGGER:-P1D
ACTION:DISPLAY
DESCRIPTION:Workshop morgen: Workshop: Gelli Plate Basiskurs
END:VALARM
END:VEVENT
END:VCALENDAR
